BEGIN:VCALENDAR
VERSION:2.0
PRODID:-//Go Green Wilmette - ECPv6.15.20//NONSGML v1.0//EN
CALSCALE:GREGORIAN
METHOD:PUBLISH
X-ORIGINAL-URL:https://gogreenwilmette.org
X-WR-CALDESC:Events for Go Green Wilmette
REFRESH-INTERVAL;VALUE=DURATION:PT1H
X-Robots-Tag:noindex
X-PUBLISHED-TTL:PT1H
BEGIN:VTIMEZONE
TZID:America/Chicago
BEGIN:DAYLIGHT
TZOFFSETFROM:-0600
TZOFFSETTO:-0500
TZNAME:CDT
DTSTART:20250309T080000
END:DAYLIGHT
BEGIN:STANDARD
TZOFFSETFROM:-0500
TZOFFSETTO:-0600
TZNAME:CST
DTSTART:20251102T070000
END:STANDARD
BEGIN:DAYLIGHT
TZOFFSETFROM:-0600
TZOFFSETTO:-0500
TZNAME:CDT
DTSTART:20260308T080000
END:DAYLIGHT
BEGIN:STANDARD
TZOFFSETFROM:-0500
TZOFFSETTO:-0600
TZNAME:CST
DTSTART:20261101T070000
END:STANDARD
BEGIN:DAYLIGHT
TZOFFSETFROM:-0600
TZOFFSETTO:-0500
TZNAME:CDT
DTSTART:20270314T080000
END:DAYLIGHT
BEGIN:STANDARD
TZOFFSETFROM:-0500
TZOFFSETTO:-0600
TZNAME:CST
DTSTART:20271107T070000
END:STANDARD
END:VTIMEZONE
BEGIN:VEVENT
DTSTART;TZID=America/Chicago:20260424T140000
DTEND;TZID=America/Chicago:20260424T160000
DTSTAMP:20260423T234505
CREATED:20260326T130947Z
LAST-MODIFIED:20260406T134020Z
UID:10001152-1777039200-1777046400@gogreenwilmette.org
SUMMARY:Arbor Day Seedling Giveaway
DESCRIPTION:Want a free tree seedling? Have questions about trees? Stop by the Wilmette Public Library from 2:00 pm – 4:00 pm on Arbor Day\, Friday\, April 24th. In celebration of Arbor Day\, the Park District\, Village\, and Wilmette Public Library will be distributing free tree seedlings\, including redbuds\, white oaks and tulip poplars. Come early before they are gone! Have pressing tree questions? Village Foresters and Park District staff will be on-site to answer any tree-related questions and share information about the Park District’s Tree Management Plan! \nThis event is supported by the National Wildlife Federation’s Trees for Wildlife™ program.
URL:https://gogreenwilmette.org/calendar/arbor-day-seedling-giveaway-2/
LOCATION:Wilmette Public Library\, 1242 Wilmette Ave.\, Wilmette\, IL\, 60091\, United States
GEO:42.074773;-87.713649
X-APPLE-STRUCTURED-LOCATION;VALUE=URI;X-ADDRESS=Wilmette Public Library 1242 Wilmette Ave. Wilmette IL 60091 United States;X-APPLE-RADIUS=500;X-TITLE=1242 Wilmette Ave.:geo:-87.713649,42.074773
END:VEVENT
BEGIN:VEVENT
DTSTART;TZID=America/Chicago:20260424T160000
DTEND;TZID=America/Chicago:20260424T170000
DTSTAMP:20260423T234505
CREATED:20260403T152443Z
LAST-MODIFIED:20260406T164401Z
UID:10001156-1777046400-1777050000@gogreenwilmette.org
SUMMARY:Spring Tree Walk
DESCRIPTION:In conjunction with Arbor Day and the Wilmette Public Library event\, please join Go Green Wilmette for a guided tree walk at a park near the library.  Meet at the front door of the Wilmette Public Library. \nThis is a family friendly event and will last about one hour.  Event will be held rain or shine\, except in severe weather.
URL:https://gogreenwilmette.org/calendar/spring-tree-walk-2/
LOCATION:Wilmette Public Library\, 1242 Wilmette Ave.\, Wilmette\, IL\, 60091\, United States
ATTACH;FMTTYPE=image/png:https://gogreenwilmette.org/wp-content/uploads/2019/10/tree-walk-image-1.png
ORGANIZER;CN="Go Green Wilmette":MAILTO:info@gogreenwilmette.org
GEO:42.074773;-87.713649
X-APPLE-STRUCTURED-LOCATION;VALUE=URI;X-ADDRESS=Wilmette Public Library 1242 Wilmette Ave. Wilmette IL 60091 United States;X-APPLE-RADIUS=500;X-TITLE=1242 Wilmette Ave.:geo:-87.713649,42.074773
END:VEVENT
BEGIN:VEVENT
DTSTART;TZID=America/Chicago:20260425T090000
DTEND;TZID=America/Chicago:20260425T110000
DTSTAMP:20260423T234505
CREATED:20260310T180527Z
LAST-MODIFIED:20260310T180552Z
UID:10001138-1777107600-1777114800@gogreenwilmette.org
SUMMARY:Gillson Beach Clean Up
DESCRIPTION:Join us for a beach clean-up! We meet at the Gillson Beach House during the off-season. Look for our bright green tablecloth. \nFeel free to come early or stay late and please stop by our table at some point between 9 and 11 AM to check in. Bring reusable gloves (not single-use plastic) and a bucket or container\, many plastic pieces are tiny and need to be picked up by hand. \nCan’t make it? Do a solo beach clean-up anytime and tag #gogreenwilmette on Instagram or Facebook. For more information on why these efforts matter\, watch our short video on plastic pollution and its impact on our beaches and lake.
URL:https://gogreenwilmette.org/calendar/44707/2026-04-25/
LOCATION:Gillson Beach House Parking Lot\, 101 Lake Ave\, Wilmette\, IL\, 60091\, United States
ATTACH;FMTTYPE=image/jpeg:https://gogreenwilmette.org/wp-content/uploads/2019/11/Plastic_bits_in_hand.jpeg
ORGANIZER;CN="Go Green Wilmette":MAILTO:info@gogreenwilmette.org
GEO:42.0805743;-87.7320368
X-APPLE-STRUCTURED-LOCATION;VALUE=URI;X-ADDRESS=Gillson Beach House Parking Lot 101 Lake Ave Wilmette IL 60091 United States;X-APPLE-RADIUS=500;X-TITLE=101 Lake Ave:geo:-87.7320368,42.0805743
END:VEVENT
BEGIN:VEVENT
DTSTART;TZID=America/Chicago:20260425T090000
DTEND;TZID=America/Chicago:20260425T110000
DTSTAMP:20260423T234505
CREATED:20260409T132723Z
LAST-MODIFIED:20260409T132910Z
UID:10001162-1777107600-1777114800@gogreenwilmette.org
SUMMARY:EV Car Show
DESCRIPTION:Celebrate Earth Week at Go Green Highland Park’s EV Car Show!  Also in conjunction with Highland Park’s Arbor Day Celebration \nStop by to check out over 20 EV models at the Ravinia Festival West Parking Lot
URL:https://gogreenwilmette.org/calendar/ev-car-show/
LOCATION:Ravinia Festival West Parking Lot\, 301Ravinia Park Rd\, Highland Park\, 60035\, United States
GEO:42.1573898;-87.7768709
X-APPLE-STRUCTURED-LOCATION;VALUE=URI;X-ADDRESS=Ravinia Festival West Parking Lot 301Ravinia Park Rd Highland Park 60035 United States;X-APPLE-RADIUS=500;X-TITLE=301Ravinia Park Rd:geo:-87.7768709,42.1573898
END:VEVENT
BEGIN:VEVENT
DTSTART;TZID=America/Chicago:20260425T100000
DTEND;TZID=America/Chicago:20260425T120000
DTSTAMP:20260423T234505
CREATED:20260310T181419Z
LAST-MODIFIED:20260310T181440Z
UID:10001144-1777111200-1777118400@gogreenwilmette.org
SUMMARY:Visit GGW at Touch-A-Truck
DESCRIPTION:Touch A Truck puts kids in the driver’s seat! Join the Wilmette Park District\, Village of Wilmette and more during this FREE and unique opportunity to explore trucks of all types all in one place. Attendees\, both young and young at heart are allowed to touch\, climb\, and ask questions about their favorite trucks in a safe\, supervised environment. \nGGW will be showcasing an all electric Rivian truck!  Stop by to see us
URL:https://gogreenwilmette.org/calendar/visit-ggw-at-touch-a-truck/
LOCATION:Centennial Recreation Center\, 2300 Old Glenview Rd.\, Wilmette\, IL\, 60091\, United States
GEO:42.0718886;-87.7326313
X-APPLE-STRUCTURED-LOCATION;VALUE=URI;X-ADDRESS=Centennial Recreation Center 2300 Old Glenview Rd. Wilmette IL 60091 United States;X-APPLE-RADIUS=500;X-TITLE=2300 Old Glenview Rd.:geo:-87.7326313,42.0718886
END:VEVENT
BEGIN:VEVENT
DTSTART;TZID=America/Chicago:20260425T130000
DTEND;TZID=America/Chicago:20260425T170000
DTSTAMP:20260423T234505
CREATED:20260326T163633Z
LAST-MODIFIED:20260401T221658Z
UID:10001153-1777122000-1777136400@gogreenwilmette.org
SUMMARY:Climate Future Film Festival
DESCRIPTION:Join the Village\, Library\, and Go Green Wilmette in this inspiring and informative short film festival exploring the effects of climate change on our planet\, in celebration of Earth Day.\n \nFour-time Academy Award nominee and sustainability advocate Edward Norton joins influential author and climate leader Bill McKibben in 2026 as Honorary Judge. A ‘mini’ festival of 10-12 short films in under two hours\, selected internationally\, explores the ‘interior’ responses to global warming—visceral\, personal\, artistic\, and emotional. Drama\, documentary\, animation and humor bring solace\, inspiration\, and a call for community action. “THESE FILMS HIT US VISCERALLY\, POWERFULLY.” — Bill McKibben\, from the Introduction.
URL:https://gogreenwilmette.org/calendar/climate-future-film-festival/
LOCATION:Wilmette Theatre\, 1122 Central Ave.\, Wilmette\, IL\, 60091\, United States
ATTACH;FMTTYPE=application/pdf:https://gogreenwilmette.org/wp-content/uploads/2026/03/Climate-Future-Film-Festival-letter-NE-2026-02.pdf
GEO:42.07692;-87.7081277
X-APPLE-STRUCTURED-LOCATION;VALUE=URI;X-ADDRESS=Wilmette Theatre 1122 Central Ave. Wilmette IL 60091 United States;X-APPLE-RADIUS=500;X-TITLE=1122 Central Ave.:geo:-87.7081277,42.07692
END:VEVENT
BEGIN:VEVENT
DTSTART;TZID=America/Chicago:20260426T080000
DTEND;TZID=America/Chicago:20260426T100000
DTSTAMP:20260423T234505
CREATED:20260310T181901Z
LAST-MODIFIED:20260313T154414Z
UID:10001145-1777190400-1777197600@gogreenwilmette.org
SUMMARY:Guided Bird Walk
DESCRIPTION:Join in for a bird walk starting in late April and each Sunday morning in May before Memorial Day. Learn how to identify both backyard birds and those stopping to rest and refuel as they migrate north. Get tips for how to attract more birds to your yard. Beginners and children welcome! \nMeet at the martin house by the Coast Guard Station at the south end of Gillson Park. Bring binoculars if you have them but we’ll have some extras available. Dress warmly!  (Information about virtual and self-guided walks available on our website.)
URL:https://gogreenwilmette.org/calendar/guided-bird-walk-3/2026-04-26/
LOCATION:Coast Guard Station\, 10 Harbor Drive\, Wilmette\, IL\, 60091\, United States
ATTACH;FMTTYPE=image/jpeg:https://gogreenwilmette.org/wp-content/uploads/2026/03/Bird-Walks-Social-1.jpg
ORGANIZER;CN="Go Green Wilmette":MAILTO:info@gogreenwilmette.org
GEO:42.0773367;-87.6838845
X-APPLE-STRUCTURED-LOCATION;VALUE=URI;X-ADDRESS=Coast Guard Station 10 Harbor Drive Wilmette IL 60091 United States;X-APPLE-RADIUS=500;X-TITLE=10 Harbor Drive:geo:-87.6838845,42.0773367
END:VEVENT
END:VCALENDAR